BEGIN:VCALENDAR
VERSION:2.0
PRODID:-//Sedgefield Church - ECPv5.16.4//NONSGML v1.0//EN
CALSCALE:GREGORIAN
METHOD:PUBLISH
X-WR-CALNAME:Sedgefield Church
X-ORIGINAL-URL:https://sedgefieldchurch.org
X-WR-CALDESC:Events for Sedgefield Church
BEGIN:VTIMEZONE
TZID:America/New_York
BEGIN:DAYLIGHT
TZOFFSETFROM:-0500
TZOFFSETTO:-0400
TZNAME:EDT
DTSTART:20230312T070000
END:DAYLIGHT
BEGIN:STANDARD
TZOFFSETFROM:-0400
TZOFFSETTO:-0500
TZNAME:EST
DTSTART:20231105T060000
END:STANDARD
END:VTIMEZONE
BEGIN:VEVENT
DTSTART;TZID=America/New_York:20230919T170000
DTEND;TZID=America/New_York:20230919T180000
DTSTAMP:20260421T183944
CREATED:20230818T181134Z
LAST-MODIFIED:20230818T181134Z
UID:10920-1695142800-1695146400@sedgefieldchurch.org
SUMMARY:Keystone Expansion Meeting
DESCRIPTION:
URL:https://sedgefieldchurch.org/event/keystone-expansion-meeting/
END:VEVENT
END:VCALENDAR