BEGIN:VCALENDAR
VERSION:2.0
PRODID:-//Sedgefield Church - ECPv5.16.4//NONSGML v1.0//EN
CALSCALE:GREGORIAN
METHOD:PUBLISH
X-WR-CALNAME:Sedgefield Church
X-ORIGINAL-URL:https://sedgefieldchurch.org
X-WR-CALDESC:Events for Sedgefield Church
BEGIN:VTIMEZONE
TZID:America/New_York
BEGIN:DAYLIGHT
TZOFFSETFROM:-0500
TZOFFSETTO:-0400
TZNAME:EDT
DTSTART:20240310T070000
END:DAYLIGHT
BEGIN:STANDARD
TZOFFSETFROM:-0400
TZOFFSETTO:-0500
TZNAME:EST
DTSTART:20241103T060000
END:STANDARD
END:VTIMEZONE
BEGIN:VEVENT
DTSTART;TZID=America/New_York:20240317T180000
DTEND;TZID=America/New_York:20240317T200000
DTSTAMP:20260419T005550
CREATED:20240119T210644Z
LAST-MODIFIED:20240119T210644Z
UID:11384-1710698400-1710705600@sedgefieldchurch.org
SUMMARY:JustFaith Course - Small Group Study
DESCRIPTION:Want to Talk: Communication Tools for Divided Times offers wisdom for navigating disagreement in a healthier way — whether in personal relationships or when working for social change. \nThis small group study is in combination with the Park Road group of Churches\, which includes 6 churches of various Christian denominations. The group is limited to 16 people. If interested\, contact Pastor Tom.
URL:https://sedgefieldchurch.org/event/justfaith-course-small-group-study-2-2-2-2-2-2-2/
CATEGORIES:Adult,Study
ATTACH;FMTTYPE=image/png:https://sedgefieldchurch.org/wp-content/uploads/want-to-talk.png
END:VEVENT
END:VCALENDAR