BEGIN:VCALENDAR
VERSION:2.0
PRODID:-//Sedgefield Church - ECPv5.16.4//NONSGML v1.0//EN
CALSCALE:GREGORIAN
METHOD:PUBLISH
X-WR-CALNAME:Sedgefield Church
X-ORIGINAL-URL:https://sedgefieldchurch.org
X-WR-CALDESC:Events for Sedgefield Church
BEGIN:VTIMEZONE
TZID:America/New_York
BEGIN:DAYLIGHT
TZOFFSETFROM:-0500
TZOFFSETTO:-0400
TZNAME:EDT
DTSTART:20220313T070000
END:DAYLIGHT
BEGIN:STANDARD
TZOFFSETFROM:-0400
TZOFFSETTO:-0500
TZNAME:EST
DTSTART:20221106T060000
END:STANDARD
END:VTIMEZONE
BEGIN:VEVENT
DTSTART;TZID=America/New_York:20221207T190000
DTEND;TZID=America/New_York:20221207T200000
DTSTAMP:20260421T215906
CREATED:20221104T200030Z
LAST-MODIFIED:20221104T200030Z
UID:10335-1670439600-1670443200@sedgefieldchurch.org
SUMMARY:Intro to the Bible with Pastor Tom Session 2 ZOOM
DESCRIPTION:Location: Via ZOOM. Would you like to read the Bible but you don’t know where to start? Do you like reading the Bible but often have questions? Would you like to know more about the origins of the Bible? Would you like to have a small group experience with other people from Sedgefield Church? This two session Introduction to the Bible is for you! Contact Pastor Tom to reserve a spot.
URL:https://sedgefieldchurch.org/event/intro-to-the-bible-with-pastor-tom-session-1-3-2/
CATEGORIES:Adult,Study
END:VEVENT
END:VCALENDAR