BEGIN:VCALENDAR
VERSION:2.0
PRODID:-//Sedgefield Church - ECPv5.16.4//NONSGML v1.0//EN
CALSCALE:GREGORIAN
METHOD:PUBLISH
X-WR-CALNAME:Sedgefield Church
X-ORIGINAL-URL:https://sedgefieldchurch.org
X-WR-CALDESC:Events for Sedgefield Church
BEGIN:VTIMEZONE
TZID:America/New_York
BEGIN:DAYLIGHT
TZOFFSETFROM:-0500
TZOFFSETTO:-0400
TZNAME:EDT
DTSTART:20210314T070000
END:DAYLIGHT
BEGIN:STANDARD
TZOFFSETFROM:-0400
TZOFFSETTO:-0500
TZNAME:EST
DTSTART:20211107T060000
END:STANDARD
END:VTIMEZONE
BEGIN:VEVENT
DTSTART;TZID=America/New_York:20210801T103000
DTEND;TZID=America/New_York:20210801T113000
DTSTAMP:20260424T193444
CREATED:20210731T143008Z
LAST-MODIFIED:20210731T143008Z
UID:9073-1627813800-1627817400@sedgefieldchurch.org
SUMMARY:Holy Communion In-Person Only
DESCRIPTION:Remember to bring at least one canned item to share with our local food pantry\, Loaves and Fishes\, as a part of our Holy Communion observance. The Communion elements will be given to each person as they leave the sanctuary. Due to increased COVID numbers\, we are again asking everyone to wear a mask in worship. Children will remain in worship with their parents on the first Sunday of the month. NO JAM SESSION.
URL:https://sedgefieldchurch.org/event/holy-communion-in-person-only-2-2/
CATEGORIES:All Ages,Worship
ATTACH;FMTTYPE=image/jpeg:https://sedgefieldchurch.org/wp-content/uploads/communion.jpg
END:VEVENT
END:VCALENDAR