BEGIN:VCALENDAR
VERSION:2.0
PRODID:-//Sedgefield Church - ECPv5.16.4//NONSGML v1.0//EN
CALSCALE:GREGORIAN
METHOD:PUBLISH
X-WR-CALNAME:Sedgefield Church
X-ORIGINAL-URL:https://sedgefieldchurch.org
X-WR-CALDESC:Events for Sedgefield Church
BEGIN:VTIMEZONE
TZID:America/New_York
BEGIN:DAYLIGHT
TZOFFSETFROM:-0500
TZOFFSETTO:-0400
TZNAME:EDT
DTSTART:20230312T070000
END:DAYLIGHT
BEGIN:STANDARD
TZOFFSETFROM:-0400
TZOFFSETTO:-0500
TZNAME:EST
DTSTART:20231105T060000
END:STANDARD
END:VTIMEZONE
BEGIN:VEVENT
DTSTART;TZID=America/New_York:20230225T110000
DTEND;TZID=America/New_York:20230225T120000
DTSTAMP:20260424T061433
CREATED:20230206T191222Z
LAST-MODIFIED:20230206T191222Z
UID:10591-1677322800-1677326400@sedgefieldchurch.org
SUMMARY:Habitat Home Closing
DESCRIPTION:The Habitat House for Georgette will be completed and the closing will take place with a dedication of the home.
URL:https://sedgefieldchurch.org/event/habitat-home-closing/
CATEGORIES:Missions
ATTACH;FMTTYPE=image/jpeg:https://sedgefieldchurch.org/wp-content/uploads/habitat-logo-charlotte.jpg
END:VEVENT
END:VCALENDAR