BEGIN:VCALENDAR
VERSION:2.0
PRODID:-//Sedgefield Church - ECPv5.16.4//NONSGML v1.0//EN
CALSCALE:GREGORIAN
METHOD:PUBLISH
X-WR-CALNAME:Sedgefield Church
X-ORIGINAL-URL:https://sedgefieldchurch.org
X-WR-CALDESC:Events for Sedgefield Church
BEGIN:VTIMEZONE
TZID:America/New_York
BEGIN:DAYLIGHT
TZOFFSETFROM:-0500
TZOFFSETTO:-0400
TZNAME:EDT
DTSTART:20240310T070000
END:DAYLIGHT
BEGIN:STANDARD
TZOFFSETFROM:-0400
TZOFFSETTO:-0500
TZNAME:EST
DTSTART:20241103T060000
END:STANDARD
END:VTIMEZONE
BEGIN:VEVENT
DTSTART;TZID=America/New_York:20241207T080000
DTEND;TZID=America/New_York:20241207T160000
DTSTAMP:20260420T195246
CREATED:20240912T145400Z
LAST-MODIFIED:20240912T145400Z
UID:11802-1733558400-1733587200@sedgefieldchurch.org
SUMMARY:Habitat Build - Sedgefield Day
DESCRIPTION:SUMC is part of a group\, Charlotte Church Partners\, that is building a house this fall. You must be 16 or older to volunteer. Our church is  responsible for providing volunteers and for feeding the work crew on December 7. That means Betty and Bud’s BBQ and some delicious sides and dessert! \nQuestions about the 2024 Habitat Build? Contact Jean Fostvedt jazziejaf@aol.com \n 
URL:https://sedgefieldchurch.org/event/habitat-build-wall-framing-2-4-2-2-2-3-2-2-2-3-2/
LOCATION:Habitat Build 2024\, 2853 James St.\, Charlotte\, NC\, 28208\, United States
CATEGORIES:Volunteer
ATTACH;FMTTYPE=image/jpeg:https://sedgefieldchurch.org/wp-content/uploads/2014/08/Habitat.jpg
END:VEVENT
END:VCALENDAR