BEGIN:VCALENDAR
VERSION:2.0
PRODID:-//Sedgefield Church - ECPv5.16.4//NONSGML v1.0//EN
CALSCALE:GREGORIAN
METHOD:PUBLISH
X-WR-CALNAME:Sedgefield Church
X-ORIGINAL-URL:https://sedgefieldchurch.org
X-WR-CALDESC:Events for Sedgefield Church
BEGIN:VTIMEZONE
TZID:America/New_York
BEGIN:DAYLIGHT
TZOFFSETFROM:-0500
TZOFFSETTO:-0400
TZNAME:EDT
DTSTART:20220313T070000
END:DAYLIGHT
BEGIN:STANDARD
TZOFFSETFROM:-0400
TZOFFSETTO:-0500
TZNAME:EST
DTSTART:20221106T060000
END:STANDARD
END:VTIMEZONE
BEGIN:VEVENT
DTSTART;TZID=America/New_York:20221112T080000
DTEND;TZID=America/New_York:20221112T160000
DTSTAMP:20260421T185355
CREATED:20220910T191022Z
LAST-MODIFIED:20220910T191022Z
UID:10178-1668240000-1668268800@sedgefieldchurch.org
SUMMARY:Habitat Build
DESCRIPTION:SUMC is part of a group\, Charlotte Church Partners\, that is building a house this fall. You must be 16 or older to volunteer.  Volunteers will help construct & raise the walls of this new construction house! Our church is also responsible for feeding the work crew on .September 23. That means Betty and Bud’s BBQ and some delicious sides and dessert! \nWant to Volunteer? Click: I WANT TO VOLUNTEER  and enter the Charlotte Church Partners ID # 1686 \nQuestions about the 2022 Habitat Build? Contact Rob Neill – robneill@primaxproperties
URL:https://sedgefieldchurch.org/event/habitat-build-wall-framing-2-4-2-2-2-3-2-2-2-2-2-2-2-2/
LOCATION:Habitat Build 2024\, 2853 James St.\, Charlotte\, NC\, 28208\, United States
CATEGORIES:Volunteer
ATTACH;FMTTYPE=image/jpeg:https://sedgefieldchurch.org/wp-content/uploads/2014/08/Habitat.jpg
END:VEVENT
END:VCALENDAR