BEGIN:VCALENDAR
VERSION:2.0
PRODID:-//Sedgefield Church - ECPv5.16.4//NONSGML v1.0//EN
CALSCALE:GREGORIAN
METHOD:PUBLISH
X-WR-CALNAME:Sedgefield Church
X-ORIGINAL-URL:https://sedgefieldchurch.org
X-WR-CALDESC:Events for Sedgefield Church
BEGIN:VTIMEZONE
TZID:America/New_York
BEGIN:DAYLIGHT
TZOFFSETFROM:-0500
TZOFFSETTO:-0400
TZNAME:EDT
DTSTART:20250309T070000
END:DAYLIGHT
BEGIN:STANDARD
TZOFFSETFROM:-0400
TZOFFSETTO:-0500
TZNAME:EST
DTSTART:20251102T060000
END:STANDARD
END:VTIMEZONE
BEGIN:VEVENT
DTSTART;TZID=America/New_York:20250111T080000
DTEND;TZID=America/New_York:20250111T160000
DTSTAMP:20260420T225352
CREATED:20240912T151205Z
LAST-MODIFIED:20240912T151205Z
UID:11821-1736582400-1736611200@sedgefieldchurch.org
SUMMARY:Habitat Build
DESCRIPTION:SUMC is part of a group\, Charlotte Church Partners\, that is building a house this fall. You must be 16 or older to volunteer.  Volunteers will work on subflooring\, framing\, decking\, drywall and painting of this new construction house! \nWant to Volunteer? Click: I WANT TO VOLUNTEER  and enter the Charlotte Church Partners ID # 1686 \nQuestions about the 2024 Habitat Build? Contact Rob Neill – robneill@primaxproperties \n 
URL:https://sedgefieldchurch.org/event/habitat-build-wall-framing-2-4-2-2-2-3-2-2-2-2-2-2-2-2-2-2-2-2-2-2-2-2-2-2-2/
LOCATION:Habitat Build 2024\, 2853 James St.\, Charlotte\, NC\, 28208\, United States
CATEGORIES:Volunteer
ATTACH;FMTTYPE=image/jpeg:https://sedgefieldchurch.org/wp-content/uploads/2014/08/Habitat.jpg
END:VEVENT
END:VCALENDAR