BEGIN:VCALENDAR
VERSION:2.0
PRODID:-//Sedgefield Church - ECPv5.16.4//NONSGML v1.0//EN
CALSCALE:GREGORIAN
METHOD:PUBLISH
X-WR-CALNAME:Sedgefield Church
X-ORIGINAL-URL:https://sedgefieldchurch.org
X-WR-CALDESC:Events for Sedgefield Church
BEGIN:VTIMEZONE
TZID:America/New_York
BEGIN:DAYLIGHT
TZOFFSETFROM:-0500
TZOFFSETTO:-0400
TZNAME:EDT
DTSTART:20220313T070000
END:DAYLIGHT
BEGIN:STANDARD
TZOFFSETFROM:-0400
TZOFFSETTO:-0500
TZNAME:EST
DTSTART:20221106T060000
END:STANDARD
END:VTIMEZONE
BEGIN:VEVENT
DTSTART;TZID=America/New_York:20221023T103000
DTEND;TZID=America/New_York:20221023T113000
DTSTAMP:20260421T202203
CREATED:20221007T184043Z
LAST-MODIFIED:20221007T184124Z
UID:10270-1666521000-1666524600@sedgefieldchurch.org
SUMMARY:Guest Preacher - Tony Marciano
DESCRIPTION:Tony Marciano is the President and CEO of Charlotte Rescue Mission. The mission of CRM is to minister the Good News of Christianity to individuals caught in the crisis of poverty\, hopelessness\, or addictions by meeting their spiritual\, physical\, and emotional needs. Our church supports CRM by serving a monthly meal at their Rebound men’s facility and by financial contributions. Tony is an excellent speaker and you will want to attend this service.
URL:https://sedgefieldchurch.org/event/guest-preacher-tony-marciano/
CATEGORIES:Worship
END:VEVENT
END:VCALENDAR