BEGIN:VCALENDAR
VERSION:2.0
PRODID:-//Sedgefield Church - ECPv5.16.4//NONSGML v1.0//EN
CALSCALE:GREGORIAN
METHOD:PUBLISH
X-WR-CALNAME:Sedgefield Church
X-ORIGINAL-URL:https://sedgefieldchurch.org
X-WR-CALDESC:Events for Sedgefield Church
BEGIN:VTIMEZONE
TZID:America/New_York
BEGIN:DAYLIGHT
TZOFFSETFROM:-0500
TZOFFSETTO:-0400
TZNAME:EDT
DTSTART:20250309T070000
END:DAYLIGHT
BEGIN:STANDARD
TZOFFSETFROM:-0400
TZOFFSETTO:-0500
TZNAME:EST
DTSTART:20251102T060000
END:STANDARD
END:VTIMEZONE
BEGIN:VEVENT
DTSTART;TZID=America/New_York:20251008T103000
DTEND;TZID=America/New_York:20251008T123000
DTSTAMP:20260420T233942
CREATED:20250912T165403Z
LAST-MODIFIED:20250912T165403Z
UID:12514-1759919400-1759926600@sedgefieldchurch.org
SUMMARY:FIRST AID AND CPR TRAINING
DESCRIPTION:Sedgefield Church is offering a First Aid/CPR course. The cost is $20 for certification and FREE if you just want to learn First Aid/ CPR. Look for a sign up in the narthex or text 704-617-4056 or email Mary Jo to register BEFORE SEPTEMBER 26. The class is limited to 10 people.
URL:https://sedgefieldchurch.org/event/first-aid-and-cpr-training-2-2-2/
CATEGORIES:Adult
ATTACH;FMTTYPE=image/jpeg:https://sedgefieldchurch.org/wp-content/uploads/First-Aid-Class.jpg
END:VEVENT
END:VCALENDAR