BEGIN:VCALENDAR
VERSION:2.0
PRODID:-//Sedgefield Church - ECPv5.16.4//NONSGML v1.0//EN
CALSCALE:GREGORIAN
METHOD:PUBLISH
X-WR-CALNAME:Sedgefield Church
X-ORIGINAL-URL:https://sedgefieldchurch.org
X-WR-CALDESC:Events for Sedgefield Church
BEGIN:VTIMEZONE
TZID:America/New_York
BEGIN:DAYLIGHT
TZOFFSETFROM:-0500
TZOFFSETTO:-0400
TZNAME:EDT
DTSTART:20220313T070000
END:DAYLIGHT
BEGIN:STANDARD
TZOFFSETFROM:-0400
TZOFFSETTO:-0500
TZNAME:EST
DTSTART:20221106T060000
END:STANDARD
END:VTIMEZONE
BEGIN:VEVENT
DTSTART;TZID=America/New_York:20221006T190000
DTEND;TZID=America/New_York:20221006T203000
DTSTAMP:20260422T022545
CREATED:20221001T142742Z
LAST-MODIFIED:20221001T142742Z
UID:10250-1665082800-1665088200@sedgefieldchurch.org
SUMMARY:Finance Committee Meeting
DESCRIPTION:This meeting will take place via zoom.
URL:https://sedgefieldchurch.org/event/finance-committee-meeting-2-2-2/
CATEGORIES:Committee
ATTACH;FMTTYPE=image/png:https://sedgefieldchurch.org/wp-content/uploads/finance-committee.png
END:VEVENT
END:VCALENDAR