BEGIN:VCALENDAR
VERSION:2.0
PRODID:-//Sedgefield Church - ECPv5.16.4//NONSGML v1.0//EN
CALSCALE:GREGORIAN
METHOD:PUBLISH
X-WR-CALNAME:Sedgefield Church
X-ORIGINAL-URL:https://sedgefieldchurch.org
X-WR-CALDESC:Events for Sedgefield Church
BEGIN:VTIMEZONE
TZID:America/New_York
BEGIN:DAYLIGHT
TZOFFSETFROM:-0500
TZOFFSETTO:-0400
TZNAME:EDT
DTSTART:20210314T070000
END:DAYLIGHT
BEGIN:STANDARD
TZOFFSETFROM:-0400
TZOFFSETTO:-0500
TZNAME:EST
DTSTART:20211107T060000
END:STANDARD
END:VTIMEZONE
BEGIN:VEVENT
DTSTART;TZID=America/New_York:20211016T110000
DTEND;TZID=America/New_York:20211016T130000
DTSTAMP:20260424T122707
CREATED:20210917T193741Z
LAST-MODIFIED:20211007T132343Z
UID:9258-1634382000-1634389200@sedgefieldchurch.org
SUMMARY:Fall Festival
DESCRIPTION:THE FALL FESTIVAL IS BACK. A little smaller and with social distancing in mind\, we will have carnival games\, prizes\, popcorn\, hotdogs and even the ever popular Cake Walk. Plus\, we have included the Bubble Tunnel from last year’s drive-thru event. Invite your family\, friends and neighbors! It’s going to be a fun day!
URL:https://sedgefieldchurch.org/event/fall-festival-2/
CATEGORIES:Adult,All Ages,Children,Family,Neighborhood,Social
ATTACH;FMTTYPE=image/jpeg:https://sedgefieldchurch.org/wp-content/uploads/2014/10/FAll-Festival-2014.jpg
END:VEVENT
END:VCALENDAR