BEGIN:VCALENDAR
VERSION:2.0
PRODID:-//Sedgefield Church - ECPv5.16.4//NONSGML v1.0//EN
CALSCALE:GREGORIAN
METHOD:PUBLISH
X-WR-CALNAME:Sedgefield Church
X-ORIGINAL-URL:https://sedgefieldchurch.org
X-WR-CALDESC:Events for Sedgefield Church
BEGIN:VTIMEZONE
TZID:America/New_York
BEGIN:DAYLIGHT
TZOFFSETFROM:-0500
TZOFFSETTO:-0400
TZNAME:EDT
DTSTART:20250309T070000
END:DAYLIGHT
BEGIN:STANDARD
TZOFFSETFROM:-0400
TZOFFSETTO:-0500
TZNAME:EST
DTSTART:20251102T060000
END:STANDARD
END:VTIMEZONE
BEGIN:VEVENT
DTSTART;TZID=America/New_York:20251025T110000
DTEND;TZID=America/New_York:20251025T130000
DTSTAMP:20260419T164359
CREATED:20250127T190736Z
LAST-MODIFIED:20250127T190736Z
UID:12115-1761390000-1761397200@sedgefieldchurch.org
SUMMARY:Fall Festival
DESCRIPTION:It’s FALL FESTIVAL TIME! We will have carnival games\, prizes\, popcorn\, hotdogs and even the ever popular Cake Walk. Invite your family\, friends and neighbors! It’s going to be a fun day!
URL:https://sedgefieldchurch.org/event/fall-festival-2-2-2-2-2/
CATEGORIES:Adult,All Ages,Children,Family,Neighborhood,Social
ATTACH;FMTTYPE=image/jpeg:https://sedgefieldchurch.org/wp-content/uploads/2014/10/FAll-Festival-2014.jpg
END:VEVENT
END:VCALENDAR