BEGIN:VCALENDAR
VERSION:2.0
PRODID:-//Sedgefield Church - ECPv5.16.4//NONSGML v1.0//EN
CALSCALE:GREGORIAN
METHOD:PUBLISH
X-WR-CALNAME:Sedgefield Church
X-ORIGINAL-URL:https://sedgefieldchurch.org
X-WR-CALDESC:Events for Sedgefield Church
BEGIN:VTIMEZONE
TZID:America/New_York
BEGIN:DAYLIGHT
TZOFFSETFROM:-0500
TZOFFSETTO:-0400
TZNAME:EDT
DTSTART:20220313T070000
END:DAYLIGHT
BEGIN:STANDARD
TZOFFSETFROM:-0400
TZOFFSETTO:-0500
TZNAME:EST
DTSTART:20221106T060000
END:STANDARD
END:VTIMEZONE
BEGIN:VEVENT
DTSTART;TZID=America/New_York:20220415T120000
DTEND;TZID=America/New_York:20220415T130000
DTSTAMP:20260424T081307
CREATED:20220401T142103Z
LAST-MODIFIED:20220401T142103Z
UID:9857-1650024000-1650027600@sedgefieldchurch.org
SUMMARY:Drop-In Good Friday Observance
DESCRIPTION:Drop in for this time of reflection.
URL:https://sedgefieldchurch.org/event/drop-in-good-friday-observance/
CATEGORIES:Worship
ATTACH;FMTTYPE=image/jpeg:https://sedgefieldchurch.org/wp-content/uploads/Good-Friday.jpg
END:VEVENT
END:VCALENDAR