BEGIN:VCALENDAR
VERSION:2.0
PRODID:-//Sedgefield Church - ECPv5.16.4//NONSGML v1.0//EN
CALSCALE:GREGORIAN
METHOD:PUBLISH
X-WR-CALNAME:Sedgefield Church
X-ORIGINAL-URL:https://sedgefieldchurch.org
X-WR-CALDESC:Events for Sedgefield Church
BEGIN:VTIMEZONE
TZID:America/New_York
BEGIN:DAYLIGHT
TZOFFSETFROM:-0500
TZOFFSETTO:-0400
TZNAME:EDT
DTSTART:20210314T070000
END:DAYLIGHT
BEGIN:STANDARD
TZOFFSETFROM:-0400
TZOFFSETTO:-0500
TZNAME:EST
DTSTART:20211107T060000
END:STANDARD
END:VTIMEZONE
BEGIN:VEVENT
DTSTART;TZID=America/New_York:20210109T110000
DTEND;TZID=America/New_York:20210109T150000
DTSTAMP:20260424T064153
CREATED:20201231T195053Z
LAST-MODIFIED:20201231T195053Z
UID:8367-1610190000-1610204400@sedgefieldchurch.org
SUMMARY:Drive-Through COVID-19 Testing
DESCRIPTION:This is a free event done by Charlotte Community Health Clinic. There is no screening of symptoms. No insurance is needed\, but if you have insurance\, please bring your insurance card. This will be a self administered test\, done in the parking lot of the church.
URL:https://sedgefieldchurch.org/event/drive-through-covid-19-testing/
LOCATION:Sedgefield United Methodist Church\, 2830 Dorchester Place\, Charlotte\, NC\, 28209\, United States
END:VEVENT
END:VCALENDAR