BEGIN:VCALENDAR
VERSION:2.0
PRODID:-//Sedgefield Church - ECPv5.16.4//NONSGML v1.0//EN
CALSCALE:GREGORIAN
METHOD:PUBLISH
X-WR-CALNAME:Sedgefield Church
X-ORIGINAL-URL:https://sedgefieldchurch.org
X-WR-CALDESC:Events for Sedgefield Church
BEGIN:VTIMEZONE
TZID:America/New_York
BEGIN:DAYLIGHT
TZOFFSETFROM:-0500
TZOFFSETTO:-0400
TZNAME:EDT
DTSTART:20210314T070000
END:DAYLIGHT
BEGIN:STANDARD
TZOFFSETFROM:-0400
TZOFFSETTO:-0500
TZNAME:EST
DTSTART:20211107T060000
END:STANDARD
END:VTIMEZONE
BEGIN:VEVENT
DTSTART;VALUE=DATE:20211212
DTEND;VALUE=DATE:20211213
DTSTAMP:20260424T135637
CREATED:20211211T171709Z
LAST-MODIFIED:20211211T171709Z
UID:9513-1639267200-1639353599@sedgefieldchurch.org
SUMMARY:Deadline to Return Angel Tree Gifts
DESCRIPTION:Please write the Family # and Child # on each wrapped gift. Put all gifts for one child in a trash bag and tie the child’s angel to the bag. Thank you for participating in this ministry and for supporting our neighborhood school and the families at Sedgefield Middle School.
URL:https://sedgefieldchurch.org/event/deadline-to-return-angel-tree-gifts/
CATEGORIES:All Ages,Missions
END:VEVENT
END:VCALENDAR