BEGIN:VCALENDAR
VERSION:2.0
PRODID:-//Sedgefield Church - ECPv5.16.4//NONSGML v1.0//EN
CALSCALE:GREGORIAN
METHOD:PUBLISH
X-WR-CALNAME:Sedgefield Church
X-ORIGINAL-URL:https://sedgefieldchurch.org
X-WR-CALDESC:Events for Sedgefield Church
BEGIN:VTIMEZONE
TZID:America/New_York
BEGIN:DAYLIGHT
TZOFFSETFROM:-0500
TZOFFSETTO:-0400
TZNAME:EDT
DTSTART:20230312T070000
END:DAYLIGHT
BEGIN:STANDARD
TZOFFSETFROM:-0400
TZOFFSETTO:-0500
TZNAME:EST
DTSTART:20231105T060000
END:STANDARD
END:VTIMEZONE
BEGIN:VEVENT
DTSTART;TZID=America/New_York:20230507T103000
DTEND;TZID=America/New_York:20230507T233000
DTSTAMP:20260421T160929
CREATED:20230427T175148Z
LAST-MODIFIED:20230427T175148Z
UID:10692-1683455400-1683502200@sedgefieldchurch.org
SUMMARY:DEADLINE for Knight's Game Registration
DESCRIPTION:Contact Mary Jo Bridges to make sure you are registered for the church-wide outing to The Charlotte Knight’s Game on May 21st. Tickets are $22 for adults. Children’s tickets are paid for by the church\, but you must be pre-registered to attend. Tickets will be purchased as a group.
URL:https://sedgefieldchurch.org/event/deadline-for-knights-game-registration/
END:VEVENT
END:VCALENDAR