BEGIN:VCALENDAR
VERSION:2.0
PRODID:-//Sedgefield Church - ECPv5.16.4//NONSGML v1.0//EN
CALSCALE:GREGORIAN
METHOD:PUBLISH
X-WR-CALNAME:Sedgefield Church
X-ORIGINAL-URL:https://sedgefieldchurch.org
X-WR-CALDESC:Events for Sedgefield Church
BEGIN:VTIMEZONE
TZID:America/New_York
BEGIN:DAYLIGHT
TZOFFSETFROM:-0500
TZOFFSETTO:-0400
TZNAME:EDT
DTSTART:20240310T070000
END:DAYLIGHT
BEGIN:STANDARD
TZOFFSETFROM:-0400
TZOFFSETTO:-0500
TZNAME:EST
DTSTART:20241103T060000
END:STANDARD
END:VTIMEZONE
BEGIN:VEVENT
DTSTART;TZID=America/New_York:20240519T103000
DTEND;TZID=America/New_York:20240519T113000
DTSTAMP:20260421T013716
CREATED:20240119T204733Z
LAST-MODIFIED:20240119T204733Z
UID:11366-1716114600-1716118200@sedgefieldchurch.org
SUMMARY:Confirmation Sunday
DESCRIPTION:Many of our youth will make their first public statement of their declaration or profession of faith. They will confirm their faith and be received into full membership in The United Methodist Church. Please come to support this important step in their Christian walk.
URL:https://sedgefieldchurch.org/event/confirmation-sunday-2/
CATEGORIES:Worship
ATTACH;FMTTYPE=image/jpeg:https://sedgefieldchurch.org/wp-content/uploads/confirmation.jpg
END:VEVENT
END:VCALENDAR