BEGIN:VCALENDAR
VERSION:2.0
PRODID:-//Sedgefield Church - ECPv5.16.4//NONSGML v1.0//EN
CALSCALE:GREGORIAN
METHOD:PUBLISH
X-WR-CALNAME:Sedgefield Church
X-ORIGINAL-URL:https://sedgefieldchurch.org
X-WR-CALDESC:Events for Sedgefield Church
BEGIN:VTIMEZONE
TZID:America/New_York
BEGIN:DAYLIGHT
TZOFFSETFROM:-0500
TZOFFSETTO:-0400
TZNAME:EDT
DTSTART:20240310T070000
END:DAYLIGHT
BEGIN:STANDARD
TZOFFSETFROM:-0400
TZOFFSETTO:-0500
TZNAME:EST
DTSTART:20241103T060000
END:STANDARD
END:VTIMEZONE
BEGIN:VEVENT
DTSTART;TZID=America/New_York:20240316T103000
DTEND;TZID=America/New_York:20240316T120000
DTSTAMP:20260418T204112
CREATED:20240129T183800Z
LAST-MODIFIED:20240216T162004Z
UID:11402-1710585000-1710590400@sedgefieldchurch.org
SUMMARY:Easter Activities and Egg Hunt for the Children
DESCRIPTION:This fun neighborhood event will begin with Easter activities and crafts for the children in the Fellowship Hall. At 11:30 am\, we will go outside for an Easter Egg Hunt. BRING YOUR EASTER BASKET! This is a rain or shine event. In the event of rain\, we will hunt for eggs in the sanctuary.
URL:https://sedgefieldchurch.org/event/community-easter-activities-and-egg-hunt-2-2-2-2/
CATEGORIES:Children,Family
ATTACH;FMTTYPE=image/jpeg:https://sedgefieldchurch.org/wp-content/uploads/easter_egg_hunt_sign-1.jpg
END:VEVENT
END:VCALENDAR