BEGIN:VCALENDAR
VERSION:2.0
PRODID:-//Sedgefield Church - ECPv5.16.4//NONSGML v1.0//EN
CALSCALE:GREGORIAN
METHOD:PUBLISH
X-WR-CALNAME:Sedgefield Church
X-ORIGINAL-URL:https://sedgefieldchurch.org
X-WR-CALDESC:Events for Sedgefield Church
BEGIN:VTIMEZONE
TZID:America/New_York
BEGIN:DAYLIGHT
TZOFFSETFROM:-0500
TZOFFSETTO:-0400
TZNAME:EDT
DTSTART:20210314T070000
END:DAYLIGHT
BEGIN:STANDARD
TZOFFSETFROM:-0400
TZOFFSETTO:-0500
TZNAME:EST
DTSTART:20211107T060000
END:STANDARD
END:VTIMEZONE
BEGIN:VEVENT
DTSTART;TZID=America/New_York:20211106T100000
DTEND;TZID=America/New_York:20211106T120000
DTSTAMP:20260424T230044
CREATED:20211029T185014Z
LAST-MODIFIED:20211029T185014Z
UID:9404-1636192800-1636200000@sedgefieldchurch.org
SUMMARY:Church Yard Work Day
DESCRIPTION:Help our church grounds stand out! Please join your church family and friends for a work day. We will pressure wash sidewalks\, trim limbs\, wash outside windows\, etc.  Please let Judy Harris\, 704-907-9133 or jharris@he-nc.com\, know if you are willing to help.
URL:https://sedgefieldchurch.org/event/church-yard-work-day/
CATEGORIES:All Ages
ATTACH;FMTTYPE=image/jpeg:https://sedgefieldchurch.org/wp-content/uploads/church-yard-work_1.jpg
END:VEVENT
END:VCALENDAR