BEGIN:VCALENDAR
VERSION:2.0
PRODID:-//Sedgefield Church - ECPv5.16.4//NONSGML v1.0//EN
CALSCALE:GREGORIAN
METHOD:PUBLISH
X-WR-CALNAME:Sedgefield Church
X-ORIGINAL-URL:https://sedgefieldchurch.org
X-WR-CALDESC:Events for Sedgefield Church
BEGIN:VTIMEZONE
TZID:America/New_York
BEGIN:DAYLIGHT
TZOFFSETFROM:-0500
TZOFFSETTO:-0400
TZNAME:EDT
DTSTART:20240310T070000
END:DAYLIGHT
BEGIN:STANDARD
TZOFFSETFROM:-0400
TZOFFSETTO:-0500
TZNAME:EST
DTSTART:20241103T060000
END:STANDARD
END:VTIMEZONE
BEGIN:VEVENT
DTSTART;TZID=America/New_York:20241019T090000
DTEND;TZID=America/New_York:20241019T120000
DTSTAMP:20260420T154538
CREATED:20240918T175150Z
LAST-MODIFIED:20240918T175150Z
UID:11873-1729328400-1729339200@sedgefieldchurch.org
SUMMARY:Church Workday
DESCRIPTION:We will have a workday at the church to take care of necessary tasks around the church campus.
URL:https://sedgefieldchurch.org/event/church-workday-2/
CATEGORIES:All Ages,Volunteer
ATTACH;FMTTYPE=image/png:https://sedgefieldchurch.org/wp-content/uploads/work-day-750x410-1.png
END:VEVENT
END:VCALENDAR