BEGIN:VCALENDAR
VERSION:2.0
PRODID:-//Sedgefield Church - ECPv5.16.4//NONSGML v1.0//EN
CALSCALE:GREGORIAN
METHOD:PUBLISH
X-WR-CALNAME:Sedgefield Church
X-ORIGINAL-URL:https://sedgefieldchurch.org
X-WR-CALDESC:Events for Sedgefield Church
BEGIN:VTIMEZONE
TZID:America/New_York
BEGIN:DAYLIGHT
TZOFFSETFROM:-0500
TZOFFSETTO:-0400
TZNAME:EDT
DTSTART:20210314T070000
END:DAYLIGHT
BEGIN:STANDARD
TZOFFSETFROM:-0400
TZOFFSETTO:-0500
TZNAME:EST
DTSTART:20211107T060000
END:STANDARD
END:VTIMEZONE
BEGIN:VEVENT
DTSTART;TZID=America/New_York:20211020T190000
DTEND;TZID=America/New_York:20211020T203000
DTSTAMP:20260424T183706
CREATED:20210917T193119Z
LAST-MODIFIED:20211011T185146Z
UID:9252-1634756400-1634761800@sedgefieldchurch.org
SUMMARY:Church Council Meeting In-Person
DESCRIPTION:This will be the last meeting before Charge Conference. All annual reports for 2020 must be submitted at this meeting. Council meetings are open to anyone who would like to find out more about what is happening in the church. We will be meeting in the fellowship hall.
URL:https://sedgefieldchurch.org/event/church-council-zoom-meeting-2-2-2-2-2-2-2-2-2/
CATEGORIES:Committee
ATTACH;FMTTYPE=image/jpeg:https://sedgefieldchurch.org/wp-content/uploads/Church-Council.jpg
END:VEVENT
END:VCALENDAR