BEGIN:VCALENDAR
VERSION:2.0
PRODID:-//Sedgefield Church - ECPv5.16.4//NONSGML v1.0//EN
CALSCALE:GREGORIAN
METHOD:PUBLISH
X-WR-CALNAME:Sedgefield Church
X-ORIGINAL-URL:https://sedgefieldchurch.org
X-WR-CALDESC:Events for Sedgefield Church
BEGIN:VTIMEZONE
TZID:America/New_York
BEGIN:DAYLIGHT
TZOFFSETFROM:-0500
TZOFFSETTO:-0400
TZNAME:EDT
DTSTART:20250309T070000
END:DAYLIGHT
BEGIN:STANDARD
TZOFFSETFROM:-0400
TZOFFSETTO:-0500
TZNAME:EST
DTSTART:20251102T060000
END:STANDARD
END:VTIMEZONE
BEGIN:VEVENT
DTSTART;TZID=America/New_York:20250923T183000
DTEND;TZID=America/New_York:20250923T193000
DTSTAMP:20260420T151553
CREATED:20250723T173014Z
LAST-MODIFIED:20250723T173014Z
UID:12396-1758652200-1758655800@sedgefieldchurch.org
SUMMARY:Administrative Council Meeting
DESCRIPTION:This will be an in-person meeting with a zoom option. This meeting will be important to prepare for our annual charge conference. \nCouncil meetings are open to anyone who would like to find out more about what is happening in the church.
URL:https://sedgefieldchurch.org/event/church-council-zoom-meeting-2-2-2-2-2-2-2-2-2-2-2-2-2-2-2-2-2-2-2-2-2-3-2-2-2-2-2-2-2-2-2-2-2-2-3-2-2-2-2-2-2-2/
CATEGORIES:Committee
ATTACH;FMTTYPE=image/jpeg:https://sedgefieldchurch.org/wp-content/uploads/Church-Council.jpg
END:VEVENT
END:VCALENDAR