BEGIN:VCALENDAR
VERSION:2.0
PRODID:-//Sedgefield Church - ECPv5.16.4//NONSGML v1.0//EN
CALSCALE:GREGORIAN
METHOD:PUBLISH
X-WR-CALNAME:Sedgefield Church
X-ORIGINAL-URL:https://sedgefieldchurch.org
X-WR-CALDESC:Events for Sedgefield Church
BEGIN:VTIMEZONE
TZID:America/New_York
BEGIN:DAYLIGHT
TZOFFSETFROM:-0500
TZOFFSETTO:-0400
TZNAME:EDT
DTSTART:20210314T070000
END:DAYLIGHT
BEGIN:STANDARD
TZOFFSETFROM:-0400
TZOFFSETTO:-0500
TZNAME:EST
DTSTART:20211107T060000
END:STANDARD
END:VTIMEZONE
BEGIN:VEVENT
DTSTART;TZID=America/New_York:20211219T103000
DTEND;TZID=America/New_York:20211219T113000
DTSTAMP:20260424T092434
CREATED:20211127T191847Z
LAST-MODIFIED:20211204T182207Z
UID:9475-1639909800-1639913400@sedgefieldchurch.org
SUMMARY:Children's Christmas Party - Make a reservation
DESCRIPTION:The children of the church will meet in the Education Building during worship for a Christmas Party. Please contact the church office 704-523-0077 or Mary Jo Bridges 704-617-4056 to make a reservation by December 12.
URL:https://sedgefieldchurch.org/event/childrens-christmas-party/
CATEGORIES:Children,Social
ATTACH;FMTTYPE=image/jpeg:https://sedgefieldchurch.org/wp-content/uploads/Kids-Christmas-Party.jpg
END:VEVENT
END:VCALENDAR