BEGIN:VCALENDAR
VERSION:2.0
PRODID:-//Sedgefield Church - ECPv5.16.4//NONSGML v1.0//EN
CALSCALE:GREGORIAN
METHOD:PUBLISH
X-WR-CALNAME:Sedgefield Church
X-ORIGINAL-URL:https://sedgefieldchurch.org
X-WR-CALDESC:Events for Sedgefield Church
BEGIN:VTIMEZONE
TZID:America/New_York
BEGIN:DAYLIGHT
TZOFFSETFROM:-0500
TZOFFSETTO:-0400
TZNAME:EDT
DTSTART:20230312T070000
END:DAYLIGHT
BEGIN:STANDARD
TZOFFSETFROM:-0400
TZOFFSETTO:-0500
TZNAME:EST
DTSTART:20231105T060000
END:STANDARD
END:VTIMEZONE
BEGIN:VEVENT
DTSTART;TZID=America/New_York:20230603T150000
DTEND;TZID=America/New_York:20230603T160000
DTSTAMP:20260421T153623
CREATED:20230526T205042Z
LAST-MODIFIED:20230526T205702Z
UID:10764-1685804400-1685808000@sedgefieldchurch.org
SUMMARY:Chamber Music For All Concert
DESCRIPTION:Chamber Music For All is a non-profit organization seeks to offer family friendly\, affordable concerts. Their concerts feature musicians from The Charlotte Symphony. \nThis concert will include works by Sarasate\, Piazzolla\, Massenet\, Gardel and more with guest Andrea Mumm Trammell\, Principal Harp\, Charlotte Symphony. \nAdmission is $20 (seniors $10) for adults and no charge for children and students under 18. Following the concert\, refreshments will be served at a reception to meet the musicians. For more information or to purchase advanced tickets go to chambermusicforall.com. \n 
URL:https://sedgefieldchurch.org/event/chamber-music-concert-7-2-2/
LOCATION:Sedgefield United Methodist Church\, 2830 Dorchester Place\, Charlotte\, NC\, 28209\, United States
CATEGORIES:All Ages,Neighborhood
ATTACH;FMTTYPE=image/jpeg:https://sedgefieldchurch.org/wp-content/uploads/Music.jpg
END:VEVENT
END:VCALENDAR