BEGIN:VCALENDAR
VERSION:2.0
PRODID:-//Sedgefield Church - ECPv5.16.4//NONSGML v1.0//EN
CALSCALE:GREGORIAN
METHOD:PUBLISH
X-WR-CALNAME:Sedgefield Church
X-ORIGINAL-URL:https://sedgefieldchurch.org
X-WR-CALDESC:Events for Sedgefield Church
BEGIN:VTIMEZONE
TZID:America/New_York
BEGIN:DAYLIGHT
TZOFFSETFROM:-0500
TZOFFSETTO:-0400
TZNAME:EDT
DTSTART:20240310T070000
END:DAYLIGHT
BEGIN:STANDARD
TZOFFSETFROM:-0400
TZOFFSETTO:-0500
TZNAME:EST
DTSTART:20241103T060000
END:STANDARD
END:VTIMEZONE
BEGIN:VEVENT
DTSTART;TZID=America/New_York:20240601T150000
DTEND;TZID=America/New_York:20240601T160000
DTSTAMP:20260421T035425
CREATED:20240510T170713Z
LAST-MODIFIED:20240510T170713Z
UID:11619-1717254000-1717257600@sedgefieldchurch.org
SUMMARY:Chamber Music For All Concert
DESCRIPTION:Chamber Music For All is a non-profit organization seeks to offer family friendly\, affordable concerts. Their concerts feature musicians from The Charlotte Symphony. \nThis concert will include Beethovan’s Quartet op. 18 no. 4 in C Minor and Tchaikovsky’s  Quartet no 3 in E Flat Minor. The instrumentalist are Calin Lupanu and Monica Boboc (violins) with Marcus Pyle (viola) and Marlene Ballena (cello). \nAdmission is $25 (seniors $15) for adults and no charge for children and students under 18.  For more information or to purchase advanced tickets go to chambermusicforall.com. \n 
URL:https://sedgefieldchurch.org/event/chamber-music-concert-7-2-2-2/
LOCATION:Sedgefield United Methodist Church\, 2830 Dorchester Place\, Charlotte\, NC\, 28209\, United States
CATEGORIES:All Ages,Neighborhood
ATTACH;FMTTYPE=image/jpeg:https://sedgefieldchurch.org/wp-content/uploads/Music.jpg
END:VEVENT
END:VCALENDAR