BEGIN:VCALENDAR
VERSION:2.0
PRODID:-//Sedgefield Church - ECPv5.16.4//NONSGML v1.0//EN
CALSCALE:GREGORIAN
METHOD:PUBLISH
X-WR-CALNAME:Sedgefield Church
X-ORIGINAL-URL:https://sedgefieldchurch.org
X-WR-CALDESC:Events for Sedgefield Church
BEGIN:VTIMEZONE
TZID:America/New_York
BEGIN:DAYLIGHT
TZOFFSETFROM:-0500
TZOFFSETTO:-0400
TZNAME:EDT
DTSTART:20200308T070000
END:DAYLIGHT
BEGIN:STANDARD
TZOFFSETFROM:-0400
TZOFFSETTO:-0500
TZNAME:EST
DTSTART:20201101T060000
END:STANDARD
END:VTIMEZONE
BEGIN:VEVENT
DTSTART;TZID=America/New_York:20201028T183000
DTEND;TZID=America/New_York:20201028T193000
DTSTAMP:20260423T104452
CREATED:20200925T144300Z
LAST-MODIFIED:20200925T144300Z
UID:8066-1603909800-1603913400@sedgefieldchurch.org
SUMMARY:Centering Prayer
DESCRIPTION:CENTERING PRAYER is a method of silent prayer that prepares us to receive the gift of prayer in which we experience God’s presence within us\, closer than breathing\, closer than thinking\, closer than consciousness itself. This method of prayer is both a relationship with God and a discipline to foster that relationship. Join us every Wednesday night at 6:30 pm outside\, in the sanctuary\, or in the lower level of the Sanctuary Building as weather and space permit. Social distancing is observed.
URL:https://sedgefieldchurch.org/event/centering-prayer-2-2-2-2-2-2-2-2-2-2-2-2-2-2-2-2-2-2-2-2-2-2-2-2-2-2-2-2-2-2-2-2-2-2-2-2-2-2-2-2-3-2-2-2-2-2-2-2-2-5-2-2-2-2-2-2-2-2-2-2-2-2-2-2-2-2-2-2-2-2-2-2-2-2-2-2-2-2-2-2-2-2-2/
CATEGORIES:Adult,Neighborhood
ATTACH;FMTTYPE=image/jpeg:https://sedgefieldchurch.org/wp-content/uploads/centering-prayer-e1568215000722.jpg
END:VEVENT
END:VCALENDAR