BEGIN:VCALENDAR
VERSION:2.0
PRODID:-//Sedgefield Church - ECPv5.16.4//NONSGML v1.0//EN
CALSCALE:GREGORIAN
METHOD:PUBLISH
X-WR-CALNAME:Sedgefield Church
X-ORIGINAL-URL:https://sedgefieldchurch.org
X-WR-CALDESC:Events for Sedgefield Church
BEGIN:VTIMEZONE
TZID:America/New_York
BEGIN:DAYLIGHT
TZOFFSETFROM:-0500
TZOFFSETTO:-0400
TZNAME:EDT
DTSTART:20230312T070000
END:DAYLIGHT
BEGIN:STANDARD
TZOFFSETFROM:-0400
TZOFFSETTO:-0500
TZNAME:EST
DTSTART:20231105T060000
END:STANDARD
END:VTIMEZONE
BEGIN:VEVENT
DTSTART;TZID=America/New_York:20231029T103000
DTEND;TZID=America/New_York:20231029T113000
DTSTAMP:20260421T031053
CREATED:20230830T180218Z
LAST-MODIFIED:20230830T180218Z
UID:10949-1698575400-1698579000@sedgefieldchurch.org
SUMMARY:Celebrate 75 Worship Service
DESCRIPTION:Sedgefield United Methodist Church was established as St. Paul UMC 75 year ago. We want to acknowledge this event and celebrate our past and our future. Former Paster Jim Brookshire will deliver the sermon.
URL:https://sedgefieldchurch.org/event/celebrate-75-worship-service/
CATEGORIES:Worship
ATTACH;FMTTYPE=image/jpeg:https://sedgefieldchurch.org/wp-content/uploads/75-years.jpg
END:VEVENT
END:VCALENDAR