BEGIN:VCALENDAR
VERSION:2.0
PRODID:-//Sedgefield Church - ECPv5.16.4//NONSGML v1.0//EN
CALSCALE:GREGORIAN
METHOD:PUBLISH
X-WR-CALNAME:Sedgefield Church
X-ORIGINAL-URL:https://sedgefieldchurch.org
X-WR-CALDESC:Events for Sedgefield Church
BEGIN:VTIMEZONE
TZID:America/New_York
BEGIN:DAYLIGHT
TZOFFSETFROM:-0500
TZOFFSETTO:-0400
TZNAME:EDT
DTSTART:20220313T070000
END:DAYLIGHT
BEGIN:STANDARD
TZOFFSETFROM:-0400
TZOFFSETTO:-0500
TZNAME:EST
DTSTART:20221106T060000
END:STANDARD
END:VTIMEZONE
BEGIN:VEVENT
DTSTART;TZID=America/New_York:20220706T183000
DTEND;TZID=America/New_York:20220706T200000
DTSTAMP:20260422T005946
CREATED:20220617T220948Z
LAST-MODIFIED:20220617T220948Z
UID:9991-1657132200-1657137600@sedgefieldchurch.org
SUMMARY:Board of Trustees
DESCRIPTION:Trustees should attend this meeting in the Fellowship Hall.
URL:https://sedgefieldchurch.org/event/board-of-trustees-2-2-2-2-2-2-2-2-2-2-2-2-2/
CATEGORIES:Committee
ATTACH;FMTTYPE=image/jpeg:https://sedgefieldchurch.org/wp-content/uploads/trustees-scaled.jpg
END:VEVENT
END:VCALENDAR