BEGIN:VCALENDAR
VERSION:2.0
PRODID:-//Sedgefield Church - ECPv5.16.4//NONSGML v1.0//EN
CALSCALE:GREGORIAN
METHOD:PUBLISH
X-WR-CALNAME:Sedgefield Church
X-ORIGINAL-URL:https://sedgefieldchurch.org
X-WR-CALDESC:Events for Sedgefield Church
BEGIN:VTIMEZONE
TZID:America/New_York
BEGIN:DAYLIGHT
TZOFFSETFROM:-0500
TZOFFSETTO:-0400
TZNAME:EDT
DTSTART:20230312T070000
END:DAYLIGHT
BEGIN:STANDARD
TZOFFSETFROM:-0400
TZOFFSETTO:-0500
TZNAME:EST
DTSTART:20231105T060000
END:STANDARD
END:VTIMEZONE
BEGIN:VEVENT
DTSTART;TZID=America/New_York:20230607T183000
DTEND;TZID=America/New_York:20230607T200000
DTSTAMP:20260421T124932
CREATED:20230512T192232Z
LAST-MODIFIED:20230512T192232Z
UID:10740-1686162600-1686168000@sedgefieldchurch.org
SUMMARY:Board of Trustees - Zoom
DESCRIPTION:Trustees should attend this meeting via zoom. Contact the church office if you do not have the zoom link.
URL:https://sedgefieldchurch.org/event/board-of-trustees-2-2-2-2-2-2-2-2-2-2-2-2-2-2-2-2-3-2-2-2/
CATEGORIES:Committee
ATTACH;FMTTYPE=image/jpeg:https://sedgefieldchurch.org/wp-content/uploads/trustees-scaled.jpg
END:VEVENT
END:VCALENDAR