BEGIN:VCALENDAR
VERSION:2.0
PRODID:-//Sedgefield Church - ECPv5.16.4//NONSGML v1.0//EN
CALSCALE:GREGORIAN
METHOD:PUBLISH
X-WR-CALNAME:Sedgefield Church
X-ORIGINAL-URL:https://sedgefieldchurch.org
X-WR-CALDESC:Events for Sedgefield Church
BEGIN:VTIMEZONE
TZID:America/New_York
BEGIN:DAYLIGHT
TZOFFSETFROM:-0500
TZOFFSETTO:-0400
TZNAME:EDT
DTSTART:20240310T070000
END:DAYLIGHT
BEGIN:STANDARD
TZOFFSETFROM:-0400
TZOFFSETTO:-0500
TZNAME:EST
DTSTART:20241103T060000
END:STANDARD
END:VTIMEZONE
BEGIN:VEVENT
DTSTART;TZID=America/New_York:20240904T183000
DTEND;TZID=America/New_York:20240904T200000
DTSTAMP:20260420T153658
CREATED:20240816T131016Z
LAST-MODIFIED:20240816T131104Z
UID:11733-1725474600-1725480000@sedgefieldchurch.org
SUMMARY:Board of Trustees - Via Zoom
DESCRIPTION:Trustees should look for the zoom link in their email.
URL:https://sedgefieldchurch.org/event/board-of-trustees-2-2-2-2-2-2-2-2-2-2-2-2-2-2-2-2-3-2-2-2-2-2-2-2-2-3-2-3-2-2-2-2/
CATEGORIES:Committee
ATTACH;FMTTYPE=image/jpeg:https://sedgefieldchurch.org/wp-content/uploads/trustees-scaled.jpg
END:VEVENT
END:VCALENDAR