BEGIN:VCALENDAR
VERSION:2.0
PRODID:-//Sedgefield Church - ECPv5.16.4//NONSGML v1.0//EN
CALSCALE:GREGORIAN
METHOD:PUBLISH
X-WR-CALNAME:Sedgefield Church
X-ORIGINAL-URL:https://sedgefieldchurch.org
X-WR-CALDESC:Events for Sedgefield Church
BEGIN:VTIMEZONE
TZID:America/New_York
BEGIN:DAYLIGHT
TZOFFSETFROM:-0500
TZOFFSETTO:-0400
TZNAME:EDT
DTSTART:20260308T070000
END:DAYLIGHT
BEGIN:STANDARD
TZOFFSETFROM:-0400
TZOFFSETTO:-0500
TZNAME:EST
DTSTART:20261101T060000
END:STANDARD
END:VTIMEZONE
BEGIN:VEVENT
DTSTART;TZID=America/New_York:20261122T103000
DTEND;TZID=America/New_York:20261122T103000
DTSTAMP:20260419T211132
CREATED:20260219T205637Z
LAST-MODIFIED:20260219T205637Z
UID:12891-1795343400-1795343400@sedgefieldchurch.org
SUMMARY:Blessing of Operation Christmas Child Boxes
DESCRIPTION:This is the last day to return your filled Operation Christmas Child boxes.  All of the filled OCC boxes that we have collected will be blessed at the worship service before they are sent off.
URL:https://sedgefieldchurch.org/event/blessing-of-operation-christmas-child-boxes-2-2-2-2-2-2/
CATEGORIES:All Ages,Missions
ATTACH;FMTTYPE=image/jpeg:https://sedgefieldchurch.org/wp-content/uploads/2014/10/Op-Christmas-Child-e1417014578605.jpg
END:VEVENT
END:VCALENDAR