BEGIN:VCALENDAR
VERSION:2.0
PRODID:-//Sedgefield Church - ECPv5.16.4//NONSGML v1.0//EN
CALSCALE:GREGORIAN
METHOD:PUBLISH
X-WR-CALNAME:Sedgefield Church
X-ORIGINAL-URL:https://sedgefieldchurch.org
X-WR-CALDESC:Events for Sedgefield Church
BEGIN:VTIMEZONE
TZID:America/New_York
BEGIN:DAYLIGHT
TZOFFSETFROM:-0500
TZOFFSETTO:-0400
TZNAME:EDT
DTSTART:20250309T070000
END:DAYLIGHT
BEGIN:STANDARD
TZOFFSETFROM:-0400
TZOFFSETTO:-0500
TZNAME:EST
DTSTART:20251102T060000
END:STANDARD
END:VTIMEZONE
BEGIN:VEVENT
DTSTART;TZID=America/New_York:20251209T110000
DTEND;TZID=America/New_York:20251209T120000
DTSTAMP:20260420T032454
CREATED:20251205T151706Z
LAST-MODIFIED:20251205T151706Z
UID:12654-1765278000-1765281600@sedgefieldchurch.org
SUMMARY:Bible Study with Pastor Tom
DESCRIPTION:This bible study takes place in the fellowship hall. All are welcome to join at any time.
URL:https://sedgefieldchurch.org/event/bible-study-with-pastor-tom-2-2-2-2-2-2-2-2-2-2-2-2-2-2-3-2-2-2-2-2-2-2-2-2-2-2-2-2-2-2-2-3-2-2-2-2-4-8-2-2-2-2-2-2-3-2-2-2-2-2-2-2-2-2-2-2-2-3-2-2/
CATEGORIES:Adult,Study
END:VEVENT
END:VCALENDAR