BEGIN:VCALENDAR
VERSION:2.0
PRODID:-//Sedgefield Church - ECPv5.16.4//NONSGML v1.0//EN
CALSCALE:GREGORIAN
METHOD:PUBLISH
X-WR-CALNAME:Sedgefield Church
X-ORIGINAL-URL:https://sedgefieldchurch.org
X-WR-CALDESC:Events for Sedgefield Church
BEGIN:VTIMEZONE
TZID:America/New_York
BEGIN:DAYLIGHT
TZOFFSETFROM:-0500
TZOFFSETTO:-0400
TZNAME:EDT
DTSTART:20250309T070000
END:DAYLIGHT
BEGIN:STANDARD
TZOFFSETFROM:-0400
TZOFFSETTO:-0500
TZNAME:EST
DTSTART:20251102T060000
END:STANDARD
END:VTIMEZONE
BEGIN:VEVENT
DTSTART;TZID=America/New_York:20250305T120000
DTEND;TZID=America/New_York:20250305T130000
DTSTAMP:20260424T044534
CREATED:20250215T154724Z
LAST-MODIFIED:20250215T154724Z
UID:12162-1741176000-1741179600@sedgefieldchurch.org
SUMMARY:Ash Wednesday Time of Reflection
DESCRIPTION:Join us on Ash Wednesday as we mark the beginning of the season of Lent\, preparing for the celebration of Easter. During this time the sanctuary will be open for a time of reflection. Pastor Tom will provide the imposition of ashes (a tradition that dates back to the 10th century) where he will lightly rub the sign of the cross with ashes onto your forehead. Ashes symbolize our understanding of the need for repentance in our lives.
URL:https://sedgefieldchurch.org/event/ash-wednesday-service-2-2-3-2-2-2-2-2/
CATEGORIES:All Ages,Worship
ATTACH;FMTTYPE=image/jpeg:https://sedgefieldchurch.org/wp-content/uploads/ash-wednesday.jpg
END:VEVENT
END:VCALENDAR