BEGIN:VCALENDAR
VERSION:2.0
PRODID:-//Sedgefield Church - ECPv5.16.4//NONSGML v1.0//EN
CALSCALE:GREGORIAN
METHOD:PUBLISH
X-WR-CALNAME:Sedgefield Church
X-ORIGINAL-URL:https://sedgefieldchurch.org
X-WR-CALDESC:Events for Sedgefield Church
BEGIN:VTIMEZONE
TZID:America/New_York
BEGIN:DAYLIGHT
TZOFFSETFROM:-0500
TZOFFSETTO:-0400
TZNAME:EDT
DTSTART:20210314T070000
END:DAYLIGHT
BEGIN:STANDARD
TZOFFSETFROM:-0400
TZOFFSETTO:-0500
TZNAME:EST
DTSTART:20211107T060000
END:STANDARD
END:VTIMEZONE
BEGIN:VEVENT
DTSTART;TZID=America/New_York:20210217T190000
DTEND;TZID=America/New_York:20210217T200000
DTSTAMP:20260424T232554
CREATED:20210212T222424Z
LAST-MODIFIED:20210215T174210Z
UID:8480-1613588400-1613592000@sedgefieldchurch.org
SUMMARY:Virtual Ash Wednesday Service
DESCRIPTION:Join us on Ash Wednesday as we mark the beginning of the season of Lent\, preparing for the celebration of Easter.  Ashes symbolize our understanding of the need for repentance in our lives. This will be a virtual service which you can watch live on our Facebook site.
URL:https://sedgefieldchurch.org/event/ash-wednesday-service-2-2-2/
CATEGORIES:All Ages,Worship
ATTACH;FMTTYPE=image/jpeg:https://sedgefieldchurch.org/wp-content/uploads/2016/01/Ash_Wednesday.jpg
END:VEVENT
END:VCALENDAR