BEGIN:VCALENDAR
VERSION:2.0
PRODID:-//Sedgefield Church - ECPv5.16.4//NONSGML v1.0//EN
CALSCALE:GREGORIAN
METHOD:PUBLISH
X-WR-CALNAME:Sedgefield Church
X-ORIGINAL-URL:https://sedgefieldchurch.org
X-WR-CALDESC:Events for Sedgefield Church
BEGIN:VTIMEZONE
TZID:America/New_York
BEGIN:DAYLIGHT
TZOFFSETFROM:-0500
TZOFFSETTO:-0400
TZNAME:EDT
DTSTART:20210314T070000
END:DAYLIGHT
BEGIN:STANDARD
TZOFFSETFROM:-0400
TZOFFSETTO:-0500
TZNAME:EST
DTSTART:20211107T060000
END:STANDARD
END:VTIMEZONE
BEGIN:VEVENT
DTSTART;TZID=America/New_York:20211024T183000
DTEND;TZID=America/New_York:20211024T200000
DTSTAMP:20260424T193810
CREATED:20210917T194158Z
LAST-MODIFIED:20211011T184913Z
UID:9260-1635100200-1635105600@sedgefieldchurch.org
SUMMARY:Annual Charge Conference ZOOM
DESCRIPTION:This will be a zoom call with 11 churches participating and the District Superintendent overseeing the meeting. Check the Epistle for the Link if you would like to attend this meeting.
URL:https://sedgefieldchurch.org/event/annual-charge-conference-and-council-meeting-2-2/
CATEGORIES:Committee
END:VEVENT
END:VCALENDAR