BEGIN:VCALENDAR
VERSION:2.0
PRODID:-//Sedgefield Church - ECPv5.16.4//NONSGML v1.0//EN
CALSCALE:GREGORIAN
METHOD:PUBLISH
X-WR-CALNAME:Sedgefield Church
X-ORIGINAL-URL:https://sedgefieldchurch.org
X-WR-CALDESC:Events for Sedgefield Church
BEGIN:VTIMEZONE
TZID:America/New_York
BEGIN:DAYLIGHT
TZOFFSETFROM:-0500
TZOFFSETTO:-0400
TZNAME:EDT
DTSTART:20220313T070000
END:DAYLIGHT
BEGIN:STANDARD
TZOFFSETFROM:-0400
TZOFFSETTO:-0500
TZNAME:EST
DTSTART:20221106T060000
END:STANDARD
END:VTIMEZONE
BEGIN:VEVENT
DTSTART;TZID=America/New_York:20221106T160000
DTEND;TZID=America/New_York:20221106T173000
DTSTAMP:20260421T231234
CREATED:20220922T173839Z
LAST-MODIFIED:20220924T132648Z
UID:10211-1667750400-1667755800@sedgefieldchurch.org
SUMMARY:Annual Charge Conference
DESCRIPTION:Eleven churches will be participating in this Charge Conference taking place at Calvary United Methodist Church with the District Superintendent overseeing the meeting. This will consist of a worship service with a small amount of business as each church submits the needed documentstion for the coming year. Please let Pastor Tom know if you would like to attend this meeting.
URL:https://sedgefieldchurch.org/event/annual-charge-conference-and-council-meeting-2-2-2/
LOCATION:Calvary UMC\, 512 West Blvd\, CHarlotte\, NC\, United States
CATEGORIES:Committee
END:VEVENT
END:VCALENDAR