BEGIN:VCALENDAR
VERSION:2.0
PRODID:-//Sedgefield Church - ECPv5.16.4//NONSGML v1.0//EN
CALSCALE:GREGORIAN
METHOD:PUBLISH
X-WR-CALNAME:Sedgefield Church
X-ORIGINAL-URL:https://sedgefieldchurch.org
X-WR-CALDESC:Events for Sedgefield Church
BEGIN:VTIMEZONE
TZID:America/New_York
BEGIN:DAYLIGHT
TZOFFSETFROM:-0500
TZOFFSETTO:-0400
TZNAME:EDT
DTSTART:20230312T070000
END:DAYLIGHT
BEGIN:STANDARD
TZOFFSETFROM:-0400
TZOFFSETTO:-0500
TZNAME:EST
DTSTART:20231105T060000
END:STANDARD
END:VTIMEZONE
BEGIN:VEVENT
DTSTART;TZID=America/New_York:20231025T190000
DTEND;TZID=America/New_York:20231025T200000
DTSTAMP:20260421T091920
CREATED:20231020T152908Z
LAST-MODIFIED:20231020T152908Z
UID:11122-1698260400-1698264000@sedgefieldchurch.org
SUMMARY:Administrative Council and Annual Charge Conference
DESCRIPTION:We will be combining our October Administrative Council with our Annual Charge Conference. The Conference will be lead by Pastor Tom. This meeting will take place in the Fellowship Hall.
URL:https://sedgefieldchurch.org/event/annual-charge-conference-and-council-meeting-2-2-2-2/
LOCATION:Calvary UMC\, 512 West Blvd\, CHarlotte\, NC\, United States
CATEGORIES:Committee
END:VEVENT
END:VCALENDAR