BEGIN:VCALENDAR
VERSION:2.0
PRODID:-//Sedgefield Church - ECPv5.16.4//NONSGML v1.0//EN
CALSCALE:GREGORIAN
METHOD:PUBLISH
X-WR-CALNAME:Sedgefield Church
X-ORIGINAL-URL:https://sedgefieldchurch.org
X-WR-CALDESC:Events for Sedgefield Church
BEGIN:VTIMEZONE
TZID:America/New_York
BEGIN:DAYLIGHT
TZOFFSETFROM:-0500
TZOFFSETTO:-0400
TZNAME:EDT
DTSTART:20210314T070000
END:DAYLIGHT
BEGIN:STANDARD
TZOFFSETFROM:-0400
TZOFFSETTO:-0500
TZNAME:EST
DTSTART:20211107T060000
END:STANDARD
END:VTIMEZONE
BEGIN:VEVENT
DTSTART;TZID=America/New_York:20211121T093000
DTEND;TZID=America/New_York:20211121T101500
DTSTAMP:20260424T163147
CREATED:20211023T130901Z
LAST-MODIFIED:20211023T130901Z
UID:9379-1637487000-1637489700@sedgefieldchurch.org
SUMMARY:Adult Sunday School Class
DESCRIPTION:All Adults are welcome to attend Sunday School on Sunday morning in the Wesley Class on the top floor of the Education Building.  Due to the increase in COVID numbers\, we are again asking everyone attending to wear a mask. Thank you for your caring cooperation.
URL:https://sedgefieldchurch.org/event/adult-combined-sunday-school-class-2-2-2-2-2-2-3-2-2-2-2-2-2-2-2-2-2-2-2-2-2-2-2-2-2-2-2-2-2-2/
CATEGORIES:Adult,Study
END:VEVENT
END:VCALENDAR